BEGIN:VCALENDAR
VERSION:2.0
PRODID:-//pretix//PretixTicketECWest//
BEGIN:VTIMEZONE
TZID:Europe/Berlin
BEGIN:STANDARD
DTSTART:20001029T040000
RRULE:FREQ=YEARLY;BYDAY=-1SU;BYMONTH=10
TZNAME:CET
TZOFFSETFROM:+0200
TZOFFSETTO:+0100
END:STANDARD
BEGIN:DAYLIGHT
DTSTART:20000326T030000
RRULE:FREQ=YEARLY;BYDAY=-1SU;BYMONTH=3
TZNAME:CEST
TZOFFSETFROM:+0100
TZOFFSETTO:+0200
END:DAYLIGHT
END:VTIMEZONE
BEGIN:VEVENT
UID:pretix-LV-stahl-0@tickets.ec-west.de
DTSTART;TZID=Europe/Berlin:20241102T160000
DTEND;TZID=Europe/Berlin:20241102T180000
DESCRIPTION:Tickets: https://tickets.ec-west.de/LV/stahl/\nVeranstalter: EC
 W - Landesverband
DTSTAMP:20260423T113342Z
LOCATION:Stadtmission Neunkirchen\, Röntgenstr.34\, 66538 Neunkirchen
SUMMARY:Selbstbehauptung-Seminar mit Michael Stahl
END:VEVENT
END:VCALENDAR
